BEGIN:VCALENDAR
VERSION:2.0
PRODID:-//Baltimore Heritage - ECPv6.15.14//NONSGML v1.0//EN
CALSCALE:GREGORIAN
METHOD:PUBLISH
X-WR-CALNAME:Baltimore Heritage
X-ORIGINAL-URL:https://baltimoreheritage.org
X-WR-CALDESC:Events for Baltimore Heritage
REFRESH-INTERVAL;VALUE=DURATION:PT1H
X-Robots-Tag:noindex
X-PUBLISHED-TTL:PT1H
BEGIN:VTIMEZONE
TZID:America/New_York
BEGIN:DAYLIGHT
TZOFFSETFROM:-0500
TZOFFSETTO:-0400
TZNAME:EDT
DTSTART:20180311T070000
END:DAYLIGHT
BEGIN:STANDARD
TZOFFSETFROM:-0400
TZOFFSETTO:-0500
TZNAME:EST
DTSTART:20181104T060000
END:STANDARD
BEGIN:DAYLIGHT
TZOFFSETFROM:-0500
TZOFFSETTO:-0400
TZNAME:EDT
DTSTART:20190310T070000
END:DAYLIGHT
BEGIN:STANDARD
TZOFFSETFROM:-0400
TZOFFSETTO:-0500
TZNAME:EST
DTSTART:20191103T060000
END:STANDARD
BEGIN:DAYLIGHT
TZOFFSETFROM:-0500
TZOFFSETTO:-0400
TZNAME:EDT
DTSTART:20200308T070000
END:DAYLIGHT
BEGIN:STANDARD
TZOFFSETFROM:-0400
TZOFFSETTO:-0500
TZNAME:EST
DTSTART:20201101T060000
END:STANDARD
END:VTIMEZONE
BEGIN:VEVENT
DTSTART;TZID=America/New_York:20191026T093000
DTEND;TZID=America/New_York:20191026T103000
DTSTAMP:20260421T231800
CREATED:20190924T183209Z
LAST-MODIFIED:20191004T142240Z
UID:24578-1572082200-1572085800@baltimoreheritage.org
SUMMARY:Psychedelics\, Traitors and Treatments: The Unexpected Past of Spring Grove Hospital Center
DESCRIPTION:Timothy Leary’s got nothing on Baltimore! Join us for a walk around the Spring Grove Hospital Center campus to see this partially abandoned historic facility where\, among other things\, the first and longest government-run psychedelic drug research program took place. Here\, scientists tested LSD and other chemicals as potential treatments for psychiatric illnesses until national controversy caught up with everybody and the research was shut down in 1976.  \nSpring Grove has a history far deeper than the experimental 1960s. Founded in 1797\, it is the second oldest continuously operating psychiatric hospital in the country. Before the Civil War\, free and enslaved African Americans were also patients here. Later it became a whites-only facility. Today\, Spring Grove treats around 300 patients\, a fraction of its 1960 population. And there is again a psychiatric illness research facility in the same building where the LSD experiments once occurred.  \nOn our tour\, we’ll see the remnants of the oldest building on campus\, industrial structures from the 1930s\, plus a barely noticeable cemetery. Join us and our guide Paul Lubell as we walk through three centuries of history that weaves together tales of yellow fever epidemics\, Confederate traitors\, and psychedelic scandal. Groovy.  \n 
URL:https://baltimoreheritage.org/event/psychedelics-traitors-and-treatments-the-unexpected-past-of-spring-grove-hospital-center/
LOCATION:Spring Grove Hospital Center\, 55 Wade Avenue\, Catonsville\, MD\, 21228\, United States
CATEGORIES:Behind the Scenes Tours,Tours
ATTACH;FMTTYPE=image/jpeg:https://baltimoreheritage.org/wp-content/uploads/2019/09/IMG_0213.jpg
ORGANIZER;CN="Baltimore Heritage":MAILTO:info@baltimoreheritage.org
END:VEVENT
END:VCALENDAR