BEGIN:VCALENDAR
VERSION:2.0
PRODID:-//Baltimore Heritage - ECPv6.15.14//NONSGML v1.0//EN
CALSCALE:GREGORIAN
METHOD:PUBLISH
X-ORIGINAL-URL:https://baltimoreheritage.org
X-WR-CALDESC:Events for Baltimore Heritage
REFRESH-INTERVAL;VALUE=DURATION:PT1H
X-Robots-Tag:noindex
X-PUBLISHED-TTL:PT1H
BEGIN:VTIMEZONE
TZID:America/New_York
BEGIN:DAYLIGHT
TZOFFSETFROM:-0500
TZOFFSETTO:-0400
TZNAME:EDT
DTSTART:20180311T070000
END:DAYLIGHT
BEGIN:STANDARD
TZOFFSETFROM:-0400
TZOFFSETTO:-0500
TZNAME:EST
DTSTART:20181104T060000
END:STANDARD
BEGIN:DAYLIGHT
TZOFFSETFROM:-0500
TZOFFSETTO:-0400
TZNAME:EDT
DTSTART:20190310T070000
END:DAYLIGHT
BEGIN:STANDARD
TZOFFSETFROM:-0400
TZOFFSETTO:-0500
TZNAME:EST
DTSTART:20191103T060000
END:STANDARD
BEGIN:DAYLIGHT
TZOFFSETFROM:-0500
TZOFFSETTO:-0400
TZNAME:EDT
DTSTART:20200308T070000
END:DAYLIGHT
BEGIN:STANDARD
TZOFFSETFROM:-0400
TZOFFSETTO:-0500
TZNAME:EST
DTSTART:20201101T060000
END:STANDARD
END:VTIMEZONE
BEGIN:VEVENT
DTSTART;TZID=America/New_York:20190609T073000
DTEND;TZID=America/New_York:20190609T143000
DTSTAMP:20260422T052900
CREATED:20190213T210056Z
LAST-MODIFIED:20190213T210056Z
UID:24009-1560065400-1560090600@baltimoreheritage.org
SUMMARY:17th Annual Tour dem Parks\, Hon!
DESCRIPTION:Registration opens February 14! \nPoster by Adam Miller.\nStart and end point is behind the Rawlings Conservatory & Botanical Gardens in Druid Hill Park. Riders depart between 7:30 and 9:30 depending on route chosen. \nThe ride is fully supported\, including well-stocked rest stops and SAG. Enjoy burgers\, dogs (veggie options\, too)\, and live jazz at the post ride BBQ. \nDiscounts! Save up to $17 by registering early. Price on ride day: adults $55\, youths (15 & under) $20. Register by May 15 for guaranteed t-shirt/tank. Proceeds support Baltimore’s parks\, as well as environmental\, “friends of parks”\, and cycling groups. See Tour dem Parks website for more info on the ride\, routes\, and discount schedule.
URL:https://baltimoreheritage.org/event/17th-annual-tour-dem-parks-hon/
LOCATION:Howard Peters Rawlings Conservatory\, 3100 Swann Drive\, Baltimore\, MD\, 21217\, United States
CATEGORIES:Partner Events
ATTACH;FMTTYPE=image/jpeg:https://baltimoreheritage.org/wp-content/uploads/2019/02/2017-03-24-druid-hill-park.jpg
END:VEVENT
END:VCALENDAR