BEGIN:VCALENDAR
VERSION:2.0
PRODID:-//Baltimore Heritage - ECPv6.15.14//NONSGML v1.0//EN
CALSCALE:GREGORIAN
METHOD:PUBLISH
X-ORIGINAL-URL:https://baltimoreheritage.org
X-WR-CALDESC:Events for Baltimore Heritage
REFRESH-INTERVAL;VALUE=DURATION:PT1H
X-Robots-Tag:noindex
X-PUBLISHED-TTL:PT1H
BEGIN:VTIMEZONE
TZID:America/New_York
BEGIN:DAYLIGHT
TZOFFSETFROM:-0500
TZOFFSETTO:-0400
TZNAME:EDT
DTSTART:20180311T070000
END:DAYLIGHT
BEGIN:STANDARD
TZOFFSETFROM:-0400
TZOFFSETTO:-0500
TZNAME:EST
DTSTART:20181104T060000
END:STANDARD
BEGIN:DAYLIGHT
TZOFFSETFROM:-0500
TZOFFSETTO:-0400
TZNAME:EDT
DTSTART:20190310T070000
END:DAYLIGHT
BEGIN:STANDARD
TZOFFSETFROM:-0400
TZOFFSETTO:-0500
TZNAME:EST
DTSTART:20191103T060000
END:STANDARD
BEGIN:DAYLIGHT
TZOFFSETFROM:-0500
TZOFFSETTO:-0400
TZNAME:EDT
DTSTART:20200308T070000
END:DAYLIGHT
BEGIN:STANDARD
TZOFFSETFROM:-0400
TZOFFSETTO:-0500
TZNAME:EST
DTSTART:20201101T060000
END:STANDARD
END:VTIMEZONE
BEGIN:VEVENT
DTSTART;TZID=America/New_York:20190929T130000
DTEND;TZID=America/New_York:20190929T170000
DTSTAMP:20260424T181800
CREATED:20190528T181744Z
LAST-MODIFIED:20190725T210132Z
UID:24367-1569762000-1569776400@baltimoreheritage.org
SUMMARY:Mount Vernon Place Plein Air Art Show at the Garrett-Jacobs Mansion
DESCRIPTION:This summer\, artists from the Mid-Atlantic Plein Air Painters Association bring their easels to Mount Vernon Place to capture its magnificent history\, landscape and architecture. These outdoor painters will work throughout the summer\, and we hope you will stop by and watch them in progress. And we also hope you will join us on Sunday\, September 29\, 2019\, at the Garrett-Jacobs Mansion for an exhibition and sale of the paintings. Get there early as the sale will begin sharply at 1:00 pm!  \nThe event is a partnership between Baltimore Heritage\, the Garrett-Jacobs Mansion Endowment Fund\, and the Mount Vernon Place Conservancy. The ticket price includes wine and cheese nibbles.
URL:https://baltimoreheritage.org/event/mount-vernon-place-plein-air-art-show-at-the-garrett-jacobs-mansion/
LOCATION:Engineers Club / Garrett Jacobs Mansion\, 11 West Mount Vernon Place\, Baltimore\, MD\, 21201\, United States
CATEGORIES:Partner Events
ATTACH;FMTTYPE=image/jpeg:https://baltimoreheritage.org/wp-content/uploads/2019/05/plein-air-banner-resized.jpg
ORGANIZER;CN="Baltimore Heritage":MAILTO:info@baltimoreheritage.org
END:VEVENT
END:VCALENDAR