BEGIN:VCALENDAR
VERSION:2.0
PRODID:-//Baltimore Heritage - ECPv6.15.14//NONSGML v1.0//EN
CALSCALE:GREGORIAN
METHOD:PUBLISH
X-ORIGINAL-URL:https://baltimoreheritage.org
X-WR-CALDESC:Events for Baltimore Heritage
REFRESH-INTERVAL;VALUE=DURATION:PT1H
X-Robots-Tag:noindex
X-PUBLISHED-TTL:PT1H
BEGIN:VTIMEZONE
TZID:America/New_York
BEGIN:DAYLIGHT
TZOFFSETFROM:-0500
TZOFFSETTO:-0400
TZNAME:EDT
DTSTART:20180311T070000
END:DAYLIGHT
BEGIN:STANDARD
TZOFFSETFROM:-0400
TZOFFSETTO:-0500
TZNAME:EST
DTSTART:20181104T060000
END:STANDARD
BEGIN:DAYLIGHT
TZOFFSETFROM:-0500
TZOFFSETTO:-0400
TZNAME:EDT
DTSTART:20190310T070000
END:DAYLIGHT
BEGIN:STANDARD
TZOFFSETFROM:-0400
TZOFFSETTO:-0500
TZNAME:EST
DTSTART:20191103T060000
END:STANDARD
BEGIN:DAYLIGHT
TZOFFSETFROM:-0500
TZOFFSETTO:-0400
TZNAME:EDT
DTSTART:20200308T070000
END:DAYLIGHT
BEGIN:STANDARD
TZOFFSETFROM:-0400
TZOFFSETTO:-0500
TZNAME:EST
DTSTART:20201101T060000
END:STANDARD
END:VTIMEZONE
BEGIN:VEVENT
DTSTART;TZID=America/New_York:20190504T100000
DTEND;TZID=America/New_York:20190504T123000
DTSTAMP:20260422T061541
CREATED:20190305T211747Z
LAST-MODIFIED:20190307T184615Z
UID:24045-1556964000-1556973000@baltimoreheritage.org
SUMMARY:Tuscany-Canterbury by Foot: The Masterworks of Architect Clyde Nelson Friz
DESCRIPTION:Architect Clyde Nelson Friz may be be known for the Beaux Arts designs of his later works—the Pratt Library Central Branch and The Scottish Rite Temple (both begun in 1928)—but he was already a self-made man when he arrived in Baltimore right before the turn of the century. He found plenty of demand for his trade after Baltimore’s Great Fire of 1904 and the burgeoning residential growth of the city as it pushed into the surrounding farmlands. One such area was the Tuscany-Canterbury neighborhood—a 90-acre residential treasure\, just north of Johns Hopkins University Homewood Campus\, celebrating its centennial this year. \nFriz was deeply involved in helping to form the character of the neighborhood\, where he lived and designed its architecture over several decades (between the 1910s and the 1930s)\, drawing from such Revival styles as Half-Timbered Tudor\, Italian Renaissance\, and the Mediterranean. Few may know of these tucked away projects today\, but at the time\, Friz received numerous accolades through national architectural publications. \nJoin us on a walking tour to explore some of Baltimore’s most significant apartment houses. Our tour guides are Jillian Storms\, AIA\, who has been studying Clyde Friz’s life and grew up in the neighborhood\, and Baltimore historian Charlie Duff. The tour will begin at The Scottish Rite Temple and include The Tuscany\, The Lombardy\, and The Gardens of Guilford. We’ll be treated to a peek inside numerous apartments\, including the maids quarters that made this genteel living possible in its day. \nPlease note: This tour will involve hilly terrain and stairs. The apartment houses on this tour do not have elevators. \nExplore all five of our spring Baltimore by Foot walking tours. Our Baltimore Behind the Scenes Tours program has been funded by Mayor Catherine E. Pugh and the Baltimore Office of Promotion and the Arts.
URL:https://baltimoreheritage.org/event/tuscany-canterbury-neighborhood-by-foot-the-masterworks-of-architect-clyde-nelson-friz/
LOCATION:Scottish Rite Temple\, 3800 North Charles Street\, Baltimore\, MD\, 21218\, United States
CATEGORIES:Baltimore by Foot,Tours
ATTACH;FMTTYPE=image/jpeg:https://baltimoreheritage.org/wp-content/uploads/2019/02/Clyde-Friz-Canterbury-Hall-on-39th-St.jpg
ORGANIZER;CN="Baltimore Heritage":MAILTO:info@baltimoreheritage.org
END:VEVENT
BEGIN:VEVENT
DTSTART;TZID=America/New_York:20190511T100000
DTEND;TZID=America/New_York:20190511T120000
DTSTAMP:20260422T061541
CREATED:20190305T210212Z
LAST-MODIFIED:20190307T173958Z
UID:24049-1557568800-1557576000@baltimoreheritage.org
SUMMARY:Union Square by Foot: What Would H. L. Mencken Think of Summer Concerts & Window Boxes
DESCRIPTION:Built on the former estate of Baltimore’s second mayor\, Thorowgood Smith\, beginning in the 1840s\, Union Square was The Place to live for a new burgeoning class of lawyers\, doctors and other professionals. “Millionaire’s Row” ran along Stricker Street adjacent to the park and nearby Hollins Market (the city’s oldest standing public market building) bustled with activity. \nToday\, with concerts in the park in the summertime\, a significant uptick in rehab activity\, and the imminent start to reopening H.L. Mencken’s home on the Square\, Union Square has a vibrant feel. Join long-time resident and Baltimore historian professor Betsy Nix on a walking tour to  learn about the history of this gorgeous neighborhood and how its historic architecture is helping to fuel a rebirth.  \nExplore all five of our spring Baltimore by Foot walking tours. Our Baltimore Behind the Scenes Tours program has been funded by Mayor Catherine E. Pugh and the Baltimore Office of Promotion and the Arts.
URL:https://baltimoreheritage.org/event/union-square-by-foot-what-would-h-l-mencken-think-of-summer-concerts-window-boxes/
LOCATION:Union Square Park\, 1524 Hollins Street\, Baltimore\, MD\, 21223\, United States
CATEGORIES:Baltimore by Foot,Tours
ATTACH;FMTTYPE=image/jpeg:https://baltimoreheritage.org/wp-content/uploads/2019/03/2011-05-06-union-square-park.jpg
ORGANIZER;CN="Baltimore Heritage":MAILTO:info@baltimoreheritage.org
END:VEVENT
BEGIN:VEVENT
DTSTART;TZID=America/New_York:20190518T100000
DTEND;TZID=America/New_York:20190518T120000
DTSTAMP:20260422T061541
CREATED:20190306T185806Z
LAST-MODIFIED:20190307T173944Z
UID:24069-1558173600-1558180800@baltimoreheritage.org
SUMMARY:Pennsylvania Avenue by Foot: A Rising Black Arts and Entertainment District
DESCRIPTION:Pennsylvania Avenue has long been a center for Baltimore’s arts and entertainment scene. Virtually every famous entertainer of the day played here: Bill Holliday\, Redd Foxx\, Cab Calloway\, to name just a few. Today Pennsylvania Avenue is on its way to being the newest designated Arts and Entertainment District and would be the city’s only one focusing on black artists. The arts designation will help spur ongoing revitalization. \nRecently\, National Geographic awarded the Arch Social Club (founded in 1912) over $100\,000\, and state investments have resulted in facade improvement along many blocks. Join us and our guides who have been leading the effort to get Pennsylvania Avenue designated as an Arts and Entertainment District as we walk through “The Avenue” exploring its history and its future.   \nExplore all five of our spring Baltimore by Foot walking tours. Our Baltimore By Foot Tours program has been funded by Mayor Catherine E. Pugh and the Baltimore Office of Promotion and the Arts.
URL:https://baltimoreheritage.org/event/pennsylvania-avenue-by-foot-a-rising-black-arts-and-entertainment-district/
LOCATION:Arch Social Club\, 2426 Pennsylvania Avenue\, Baltimore\, MD\, 21217\, United States
CATEGORIES:Baltimore by Foot,Tours
ATTACH;FMTTYPE=image/jpeg:https://baltimoreheritage.org/wp-content/uploads/2019/03/arch-social-club.jpg
ORGANIZER;CN="Baltimore Heritage":MAILTO:info@baltimoreheritage.org
END:VEVENT
END:VCALENDAR