BEGIN:VCALENDAR
VERSION:2.0
PRODID:-//Baltimore Heritage - ECPv6.15.14//NONSGML v1.0//EN
CALSCALE:GREGORIAN
METHOD:PUBLISH
X-WR-CALNAME:Baltimore Heritage
X-ORIGINAL-URL:https://baltimoreheritage.org
X-WR-CALDESC:Events for Baltimore Heritage
REFRESH-INTERVAL;VALUE=DURATION:PT1H
X-Robots-Tag:noindex
X-PUBLISHED-TTL:PT1H
BEGIN:VTIMEZONE
TZID:America/New_York
BEGIN:DAYLIGHT
TZOFFSETFROM:-0500
TZOFFSETTO:-0400
TZNAME:EDT
DTSTART:20180311T070000
END:DAYLIGHT
BEGIN:STANDARD
TZOFFSETFROM:-0400
TZOFFSETTO:-0500
TZNAME:EST
DTSTART:20181104T060000
END:STANDARD
BEGIN:DAYLIGHT
TZOFFSETFROM:-0500
TZOFFSETTO:-0400
TZNAME:EDT
DTSTART:20190310T070000
END:DAYLIGHT
BEGIN:STANDARD
TZOFFSETFROM:-0400
TZOFFSETTO:-0500
TZNAME:EST
DTSTART:20191103T060000
END:STANDARD
BEGIN:DAYLIGHT
TZOFFSETFROM:-0500
TZOFFSETTO:-0400
TZNAME:EDT
DTSTART:20200308T070000
END:DAYLIGHT
BEGIN:STANDARD
TZOFFSETFROM:-0400
TZOFFSETTO:-0500
TZNAME:EST
DTSTART:20201101T060000
END:STANDARD
END:VTIMEZONE
BEGIN:VEVENT
DTSTART;TZID=America/New_York:20190420T100000
DTEND;TZID=America/New_York:20190420T120000
DTSTAMP:20260422T074445
CREATED:20190305T211840Z
LAST-MODIFIED:20190307T173951Z
UID:24041-1555754400-1555761600@baltimoreheritage.org
SUMMARY:Auchentoroly Terrace by Foot: A Historic Neighborhood & A Changing Druid Hill Park
DESCRIPTION:Originally named Auchentorolie after the ancestral estate of the area’s first owner\, George Buchanan\, today’s Auchentoroly Terrace neighborhood is made up of wonderful houses built at the height of the Victorian era. It is also at the forefront of change. The drinking water reservoir in neighboring Druid Hill Park is undergoing a dramatic shift and neighborhood leaders are working with city officials to improve the park’s accessibility by transforming its encircling highways into complete streets.  \nJoin local resident and public artist Graham Coreil-Allen\, a community leader working on neighborhood and park planning\, on a walking tour to learn about the history of Auchentoroly Terrace and Druid Hill Park\, as well as the direction they both are heading in the near future. Local leaders and heritage advocates Ms. Barbara Anderson-Dandy\, Ms. Sandra Almond Cooper and Ms. Donna Cypress will also speak about the neighborhood’s significant African American history. \nExplore all five of our spring Baltimore by Foot walking tours. Our Baltimore by Foot Walking Tour program has been funded by Mayor Catherine E. Pugh and the Baltimore Office of Promotion and the Arts.
URL:https://baltimoreheritage.org/event/auchentoroly-terrace-by-foot-a-historic-neighborhood-a-changing-druid-hill-park/
LOCATION:Shaarei Tfiloh Synagogue\, 2001 Liberty Heights Avenue\, Baltimore\, MD\, 21217\, United States
CATEGORIES:Baltimore by Foot,Tours
ATTACH;FMTTYPE=image/jpeg:https://baltimoreheritage.org/wp-content/uploads/2019/02/auchentoroly-Terrace.jpg
ORGANIZER;CN="Baltimore Heritage":MAILTO:info@baltimoreheritage.org
END:VEVENT
BEGIN:VEVENT
DTSTART;TZID=America/New_York:20190427T100000
DTEND;TZID=America/New_York:20190427T120000
DTSTAMP:20260422T074445
CREATED:20190305T210052Z
LAST-MODIFIED:20190417T144340Z
UID:24054-1556359200-1556366400@baltimoreheritage.org
SUMMARY:East Baltimore Midway by Foot: The Remaking of a Historic Neighborhood
DESCRIPTION:When the East Baltimore Midway neighborhood began developing in the mid nineteenth century\, its major thoroughfare\, North Avenue\, was then called Boundary Avenue and the community was still part of Baltimore County. Annexed into the city in 1888 and served by the “Belt Line” of the B&O Railroad beginning in the 1890s\, home construction took off and the area just north of Green Mount Cemetery became a middle-income community of rowhouses\, shops\, and industry.  \nDisinvestment began after World War II and was compounded by riots in the neighborhood following the assassination of Martin Luther King\, Jr. in the 1960s. Today\, residents and partner organizations like the Central Baltimore Partnership and Jubilee Baltimore have embarked on a new revitalization plan. Join local leaders on a walking tour to see how East Baltimore Midway is transforming into a vibrant community with school improvements\, new live/work spaces and more. \nExplore all five of our spring Baltimore by Foot walking tours. Our Baltimore By Foot Tours program has been funded by Mayor Catherine E. Pugh and the Baltimore Office of Promotion and the Arts.
URL:https://baltimoreheritage.org/event/east-baltimore-midway-by-foot-the-remaking-of-a-historic-neighborhood/
LOCATION:Midway Park\, 2226 Kirk Avenue\, Baltimore\, MD\, 21218\, United States
CATEGORIES:Baltimore by Foot,Tours
ATTACH;FMTTYPE=image/jpeg:https://baltimoreheritage.org/wp-content/uploads/2019/03/East-Baltimore-Midway.jpg
ORGANIZER;CN="Baltimore Heritage":MAILTO:info@baltimoreheritage.org
END:VEVENT
END:VCALENDAR