BEGIN:VCALENDAR
VERSION:2.0
PRODID:-//Baltimore Heritage - ECPv6.15.14//NONSGML v1.0//EN
CALSCALE:GREGORIAN
METHOD:PUBLISH
X-ORIGINAL-URL:https://baltimoreheritage.org
X-WR-CALDESC:Events for Baltimore Heritage
REFRESH-INTERVAL;VALUE=DURATION:PT1H
X-Robots-Tag:noindex
X-PUBLISHED-TTL:PT1H
BEGIN:VTIMEZONE
TZID:America/New_York
BEGIN:DAYLIGHT
TZOFFSETFROM:-0500
TZOFFSETTO:-0400
TZNAME:EDT
DTSTART:20240310T070000
END:DAYLIGHT
BEGIN:STANDARD
TZOFFSETFROM:-0400
TZOFFSETTO:-0500
TZNAME:EST
DTSTART:20241103T060000
END:STANDARD
BEGIN:DAYLIGHT
TZOFFSETFROM:-0500
TZOFFSETTO:-0400
TZNAME:EDT
DTSTART:20250309T070000
END:DAYLIGHT
BEGIN:STANDARD
TZOFFSETFROM:-0400
TZOFFSETTO:-0500
TZNAME:EST
DTSTART:20251102T060000
END:STANDARD
BEGIN:DAYLIGHT
TZOFFSETFROM:-0500
TZOFFSETTO:-0400
TZNAME:EDT
DTSTART:20260308T070000
END:DAYLIGHT
BEGIN:STANDARD
TZOFFSETFROM:-0400
TZOFFSETTO:-0500
TZNAME:EST
DTSTART:20261101T060000
END:STANDARD
END:VTIMEZONE
BEGIN:VEVENT
DTSTART;TZID=America/New_York:20250511T093000
DTEND;TZID=America/New_York:20250511T120000
DTSTAMP:20260424T005906
CREATED:20250227T183101Z
LAST-MODIFIED:20250310T180819Z
UID:30267-1746955800-1746964800@baltimoreheritage.org
SUMMARY:The Nooks and Crannies of Druid Hill Park by Bike
DESCRIPTION:Oil up your old bike\, and spend a serene May morning exploring the nooks and crannies of beautiful Druid Hill Park with amateur historian Ralph Brown. If you can ride a bike you will be right at home on this tour: the route will be on mostly flat\, dedicated\, safe bike trails. \nAs we pedal through the park\, we’ll find out why a “Know Nothing” party mayor in the late 1850’s left the park as a magnificent gift to Baltimore. We’ll discover a hidden Zen garden and meet its creator. We’ll learn about Baltimore’s history of segregation through testimonials present in the park today. And we’ll learn how Druid Lake has provided drinking water for nearly 150 years and behold the sublime piles of dirt that preview its recreational future. Druid Hill Park has changed in its appearance since it was established in 1860 and our tour will explore both the park’s history and the hopes and plans for improved access going forward.  \n 
URL:https://baltimoreheritage.org/event/the-nooks-and-crannies-of-druid-hill-park-by-bike-2/
LOCATION:Clipper Mill Entrance to Druid Hill Park\, 3500 Parkdale Avenue\, Baltimore\, MD\, 21211\, United States
CATEGORIES:Baltimore by Bike,Tours
ATTACH;FMTTYPE=image/jpeg:https://baltimoreheritage.org/wp-content/uploads/2019/03/Zen-Garden-2.jpg
ORGANIZER;CN="Baltimore Heritage":MAILTO:info@baltimoreheritage.org
END:VEVENT
END:VCALENDAR