BEGIN:VCALENDAR
VERSION:2.0
PRODID:-//Baltimore Heritage - ECPv6.15.14//NONSGML v1.0//EN
CALSCALE:GREGORIAN
METHOD:PUBLISH
X-ORIGINAL-URL:https://baltimoreheritage.org
X-WR-CALDESC:Events for Baltimore Heritage
REFRESH-INTERVAL;VALUE=DURATION:PT1H
X-Robots-Tag:noindex
X-PUBLISHED-TTL:PT1H
BEGIN:VTIMEZONE
TZID:America/New_York
BEGIN:DAYLIGHT
TZOFFSETFROM:-0500
TZOFFSETTO:-0400
TZNAME:EDT
DTSTART:20190310T070000
END:DAYLIGHT
BEGIN:STANDARD
TZOFFSETFROM:-0400
TZOFFSETTO:-0500
TZNAME:EST
DTSTART:20191103T060000
END:STANDARD
BEGIN:DAYLIGHT
TZOFFSETFROM:-0500
TZOFFSETTO:-0400
TZNAME:EDT
DTSTART:20200308T070000
END:DAYLIGHT
BEGIN:STANDARD
TZOFFSETFROM:-0400
TZOFFSETTO:-0500
TZNAME:EST
DTSTART:20201101T060000
END:STANDARD
BEGIN:DAYLIGHT
TZOFFSETFROM:-0500
TZOFFSETTO:-0400
TZNAME:EDT
DTSTART:20210314T070000
END:DAYLIGHT
BEGIN:STANDARD
TZOFFSETFROM:-0400
TZOFFSETTO:-0500
TZNAME:EST
DTSTART:20211107T060000
END:STANDARD
END:VTIMEZONE
BEGIN:VEVENT
DTSTART;TZID=America/New_York:20200215T090000
DTEND;TZID=America/New_York:20200215T120000
DTSTAMP:20260422T033938
CREATED:20200211T182407Z
LAST-MODIFIED:20200218T142134Z
UID:25175-1581757200-1581768000@baltimoreheritage.org
SUMMARY:Open Hours: The Spring Grove Hospital Center Alumni Museum
DESCRIPTION:We are happy to help our friends at the Spring Grove Alumni Museum get the word out about their new hours of operation. Starting this Saturday\, February 15\, 2020 the museum will be open the first and third Saturdays\, 9 am-noon\, and the first and third Mondays\, 7:30 am-noon. The Spring Grove Hospital Center Alumni Museum is located on the campus of Spring Grove Hospital Center\, in the Garrett Building\, ground floor. The museum’s collection includes photographs and drawings from throughout the hospital’s history\, as well as a small library of hospital-related documents\, several pieces of period furniture\, early medical equipment\, and other objects of interest. \n  \n*Note: This is a different event from our walking tour
URL:https://baltimoreheritage.org/event/open-hours-the-spring-grove-hospital-center-alumni-museum/
LOCATION:Garrett Building at Spring Grove Hospital Center\, 55 Wade Avenue\, Catonsville\, MD\, 21228\, United States
CATEGORIES:Exhibits,Resources
ATTACH;FMTTYPE=image/png:https://baltimoreheritage.org/wp-content/uploads/2020/02/Screen-Shot-2020-02-11-at-1.22.21-PM.png
END:VEVENT
END:VCALENDAR