BEGIN:VCALENDAR
VERSION:2.0
PRODID:-//Baltimore Heritage - ECPv6.15.14//NONSGML v1.0//EN
CALSCALE:GREGORIAN
METHOD:PUBLISH
X-WR-CALNAME:Baltimore Heritage
X-ORIGINAL-URL:https://baltimoreheritage.org
X-WR-CALDESC:Events for Baltimore Heritage
REFRESH-INTERVAL;VALUE=DURATION:PT1H
X-Robots-Tag:noindex
X-PUBLISHED-TTL:PT1H
BEGIN:VTIMEZONE
TZID:America/New_York
BEGIN:DAYLIGHT
TZOFFSETFROM:-0500
TZOFFSETTO:-0400
TZNAME:EDT
DTSTART:20250309T070000
END:DAYLIGHT
BEGIN:STANDARD
TZOFFSETFROM:-0400
TZOFFSETTO:-0500
TZNAME:EST
DTSTART:20251102T060000
END:STANDARD
BEGIN:DAYLIGHT
TZOFFSETFROM:-0500
TZOFFSETTO:-0400
TZNAME:EDT
DTSTART:20260308T070000
END:DAYLIGHT
BEGIN:STANDARD
TZOFFSETFROM:-0400
TZOFFSETTO:-0500
TZNAME:EST
DTSTART:20261101T060000
END:STANDARD
BEGIN:DAYLIGHT
TZOFFSETFROM:-0500
TZOFFSETTO:-0400
TZNAME:EDT
DTSTART:20270314T070000
END:DAYLIGHT
BEGIN:STANDARD
TZOFFSETFROM:-0400
TZOFFSETTO:-0500
TZNAME:EST
DTSTART:20271107T060000
END:STANDARD
END:VTIMEZONE
BEGIN:VEVENT
DTSTART;TZID=America/New_York:20260424T173000
DTEND;TZID=America/New_York:20260424T183000
DTSTAMP:20260424T030105
CREATED:20260401T163909Z
LAST-MODIFIED:20260402T143937Z
UID:31832-1777051800-1777055400@baltimoreheritage.org
SUMMARY:The 1904 Fire: A Light City Tour
DESCRIPTION:On April 24\, join us for the first tour of our new series\, Light City Baltimore\, to experience our city in the evening and in a brand new light! This tour will take us back to the Great 1904 Fire\, which destroyed 1500 buildings\, left 35\,000 people unemployed\, and damaged $150 million of property. Rising out of the ashes\, resilient Baltimore used the fire to rethink the city\, and the downtown we know today is shaped largely by this incident. Join Baltimore Heritage’s Executive Director Johns Hopkins on this special evening tour\, and make it a Baltimore night–grab dinner at Kechy Pizza or The Empanada Lady\, then catch a show at the Chesapeake Shakespeare Theater!   \nThis is part of our Light City tour series–join us for a series of evening walking and boat tours to see our city in a new light. Participants are encouraged to take advantage of Baltimore’s evening offerings\, including local entertainment and restaurants. \nThis project has been funded in part by a grant from the Moe Family Fund for Statewide and Local Partners of the National Trust for Historic Preservation.
URL:https://baltimoreheritage.org/event/the-1904-fire-a-light-city-tour/
LOCATION:Chesapeake Shakespeare Theater\, 7 South Calvert Street\, Baltimore\, MD\, 21202\, United States
CATEGORIES:Light City,Tours
ATTACH;FMTTYPE=image/jpeg:https://baltimoreheritage.org/wp-content/uploads/2026/04/1904-Fire-1.jpg
END:VEVENT
END:VCALENDAR